BEGIN:VCALENDAR
VERSION:2.0
PRODID:-//Department Of Education//2c04868c-bf1c-4b51-9f4b-349279c8c4af
BEGIN:VTIMEZONE
TZID:Australia/Sydney
TZURL:http://tzurl.org/zoneinfo-outlook/Australia/Sydney
X-LIC-LOCATION:Australia/Sydney
BEGIN:STANDARD
TZOFFSETFROM:+1100
TZOFFSETTO:+1000
TZNAME:AEST
DTSTART:19700405T030000
RRULE:FREQ=YEARLY;BYMONTH=4;BYDAY=1SU
END:STANDARD
BEGIN:DAYLIGHT
TZOFFSETFROM:+1000
TZOFFSETTO:+1100
TZNAME:AEDT
DTSTART:19701004T020000
RRULE:FREQ=YEARLY;BYMONTH=10;BYDAY=1SU
END:DAYLIGHT
END:VTIMEZONE
CALSCALE:GREGORIAN
X-WR-TIMEZONE:Australia/Sydney
BEGIN:VEVENT
DTSTART;TZID=Australia/Sydney:20200221T141500
DTEND;TZID=Australia/Sydney:20200221T150000
DTSTAMP:20200221T000000Z
UID:8b01cd78-f584-4121-8708-7dd83654cd97
LOCATION:Gulmarrad Public School Hall
SUMMARY;LANGUAGE=en-us:Assembly - 5/6A Item
SEQUENCE:0
DESCRIPTION:Assembly - 5/6A Item
END:VEVENT
TRANSP:TRANSPARENT
END:VCALENDAR
